BEGIN:VCALENDAR
VERSION:2.0
METHOD:PUBLISH
CALSCALE:GREGORIAN
PRODID:-//WordPress - MECv7.31.0//EN
X-ORIGINAL-URL:https://www.familyservices.bc.ca/
X-WR-CALNAME:Family Services of the North Shore
X-WR-CALDESC:
X-WR-TIMEZONE:America/Vancouver
BEGIN:VTIMEZONE
TZID:America/Vancouver
X-LIC-LOCATION:America/Vancouver
BEGIN:DAYLIGHT
TZOFFSETFROM:-0800
TZOFFSETTO:-0700
TZNAME:PDT
DTSTART:20260308T030000
RRULE:FREQ=YEARLY;BYMONTH=03;BYDAY=2SU
END:DAYLIGHT
BEGIN:STANDARD
TZOFFSETFROM:-0700
TZOFFSETTO:-0800
TZNAME:PST
DTSTART:20261101T010000
RRULE:FREQ=YEARLY;BYMONTH=11;BYDAY=1SU
END:STANDARD
END:VTIMEZONE
REFRESH-INTERVAL;VALUE=DURATION:PT1H
X-PUBLISHED-TTL:PT1H
X-MS-OLK-FORCEINSPECTOROPEN:TRUE
BEGIN:VEVENT
CLASS:PUBLIC
UID:MEC-4e116472d8d66d4a4122b279f7da37f6@familyservices.bc.ca
DTSTART;TZID=America/Vancouver:20260426T093000
DTEND;TZID=America/Vancouver:20260426T113000
DTSTAMP:20241021T233915Z
RRULE:FREQ=WEEKLY;UNTIL=20260831T183000Z
EXDATE:20241222T173000Z,20241229T173000Z,20251228T173000Z,20260322T163000Z,20260405T163000Z
CREATED:20241021
LAST-MODIFIED:20260325
PRIORITY:5
SEQUENCE:15
TRANSP:OPAQUE
SUMMARY:Pancakes & Play
DESCRIPTION:\nPancakes and Play for Dads and Male Caregivers\nDrop in for pancakes and stay to play, learn, and connect with your children and other dads and male caregivers. Gender diverse people welcome.\nFirst Time Participants:\nFor your first visit to our Thrive Family Centres you will need to fill out a registration form when you arrive. For your convenience you can download the form, fill it out and bring it with you. To download the form, click here.\nAll programs are first come-first served. Please see our capacity statement, participant rights and responsibilities, and our loving guidance guidelines. Programming is subject to change during this time, we suggest checking here on our website and looking at the Thrive Facebook page for the most up to date information.\n
URL:https://www.familyservices.bc.ca/events/pancakes-play/
ORGANIZER;CN=Family Services North Shore:MAILTO:
CATEGORIES:Maplewood,Thrive Family Programs
LOCATION:399 Seymour River Place North Vancouver, BC V7H 1S6
END:VEVENT
BEGIN:VEVENT
CLASS:PUBLIC
UID:MEC-f428542e6b94d297e4a77f2566f45f2c@familyservices.bc.ca
DTSTART;TZID=America/Vancouver:20260427T093000
DTEND;TZID=America/Vancouver:20260427T113000
DTSTAMP:20241017T215752Z
RRULE:FREQ=WEEKLY;UNTIL=20260831T183000Z;BYDAY=MO,TU,WE
EXDATE:20260323T163000Z,20260324T163000Z,20260325T163000Z,20260406T163000Z,20260518T163000Z,20260521T163000Z
CREATED:20241017
LAST-MODIFIED:20260417
PRIORITY:5
SEQUENCE:83
TRANSP:OPAQUE
SUMMARY:Learning Together Through Play – Morning
DESCRIPTION:\nLearning Together Through Play\nOur Learning Together Through Play drop in program is a place where you can play, learn, and connect with your children from birth to six years of age. Our experienced staff provide support and resources to give you the help you need to ensure your child has a healthy start in life.\nFirst Time Participants:\nFor your first visit to our Thrive Family Centres you will need to fill out a registration form when you arrive. For your convenience you can download the form, fill it out and bring it with you.\nAll programs are first come-first served. Please see our capacity statement, participant rights and responsibilities, and our loving guidance guidelines. Programming is subject to change during this time, we suggest checking here on our website and looking at the Thrive Facebook page for the most up to date information.\n
URL:https://www.familyservices.bc.ca/events/test-event-maplewood/
ORGANIZER;CN=Family Services North Shore:MAILTO:
CATEGORIES:Maplewood,Thrive Family Programs
LOCATION:399 Seymour River Place North Vancouver, BC V7H 1S6
END:VEVENT
BEGIN:VEVENT
CLASS:PUBLIC
UID:MEC-2e99b7de2efefc11e5f273f35e10e0c7@familyservices.bc.ca
DTSTART;TZID=America/Vancouver:20260427T093000
DTEND;TZID=America/Vancouver:20260427T113000
DTSTAMP:20241017T215821Z
RRULE:FREQ=WEEKLY;UNTIL=20260831T183000Z;BYDAY=MO,TU,WE,TH,FR
EXDATE:20260130T173000Z,20260107T173000Z,20260213T173000Z,20260312T163000Z,20260316T163000Z,20260317T163000Z,20260318T163000Z,20260319T163000Z,20260320T163000Z,20260323T163000Z,20260324T163000Z,20260325T163000Z,20260326T163000Z,20260327T163000Z,20260304T173000Z,20260403T163000Z,20260406T163000Z,20260414T163000Z,20260515T163000Z,20260518T163000Z,20260521T163000Z
CREATED:20241017
LAST-MODIFIED:20260417
PRIORITY:5
SEQUENCE:70
TRANSP:OPAQUE
SUMMARY:Learning Together Through Play
DESCRIPTION:\nLearning Together Through Play\nOur Learning Together Through Play drop in program is for child-led play, crafts, songs, and stories while interacting with other parents and caregivers. Our Staff offer support, resources, and referrals in a welcoming space.\nFirst Time Participants:\nFor your first visit to our Thrive Family Centres you will need to fill out a registration form when you arrive. For your convenience you can download the form, fill it out and bring it with you.\nAll programs are first come-first served. Please see our capacity statement, participant rights and responsibilities, and our loving guidance guidelines. Programming is subject to change during this time, we suggest checking here on our website and looking at the Thrive Facebook page for the most up to date information.\n
URL:https://www.familyservices.bc.ca/events/test-event-west-vancouver/
ORGANIZER;CN=Family Services North Shore:MAILTO:
CATEGORIES:Thrive Family Programs,West Vancouver
LOCATION:2121 Marine Drive West Vancouver, BC V7V 1K3
END:VEVENT
BEGIN:VEVENT
CLASS:PUBLIC
UID:MEC-1b554caad50131478083eb6e4f7845d6@familyservices.bc.ca
DTSTART;TZID=America/Vancouver:20260427T130000
DTEND;TZID=America/Vancouver:20260427T143000
DTSTAMP:20241025T125618Z
RRULE:FREQ=WEEKLY;UNTIL=20260831T213000Z;BYDAY=MO,TU,WE
EXDATE:20260101T210000Z,20260102T210000Z,20260216T210000Z,20250611T200000Z,20250623T200000Z,20250624T200000Z,20250625T200000Z,20250626T200000Z,20250613T200000Z,20250620T200000Z,20250627T200000Z,20250930T200000Z,20251119T210000Z,20251203T210000Z,20260128T210000Z,20260218T210000Z,20260323T200000Z,20260324T200000Z,20260325T200000Z,20260406T200000Z,20260414T200000Z,20260518T200000Z,20260526T200000Z
CREATED:20241025
LAST-MODIFIED:20260417
PRIORITY:5
SEQUENCE:103
TRANSP:OPAQUE
SUMMARY:Learning Together Through Play – Afternoon
DESCRIPTION:\nLearning Together Through Play\nOur Learning Together Through Play drop in program is for child-led play, crafts, songs, and stories while interacting with other parents and caregivers. Our Staff offer support, resources, and referrals in a welcoming space.\nFirst Time Participants:\nFor your first visit to our Thrive Family Centres you will need to fill out a registration form when you arrive. For your convenience you can download the form, fill it out and bring it with you.\nAll programs are first come-first served. Please see our capacity statement, participant rights and responsibilities, and our loving guidance policies. Programming is subject to change during this time, we suggest checking here on our website and looking at the Thrive Facebook page for the most up to date information.\n
URL:https://www.familyservices.bc.ca/events/test-event-maplewood-773/
ORGANIZER;CN=Family Services North Shore:MAILTO:
CATEGORIES:Maplewood,Thrive Family Programs
LOCATION:399 Seymour River Place North Vancouver, BC V7H 1S6
END:VEVENT
BEGIN:VEVENT
CLASS:PUBLIC
UID:MEC-874f44f0fc7f98682c91ecbf990e5a2f@familyservices.bc.ca
DTSTART;TZID=America/Vancouver:20260429T130000
DTEND;TZID=America/Vancouver:20260429T150000
DTSTAMP:20241029T121718Z
RRULE:FREQ=WEEKLY;UNTIL=20260831T220000Z
EXDATE:20251224T210000Z,20251231T210000Z,20260325T200000Z,20260326T200000Z,20260327T200000Z
CREATED:20241029
LAST-MODIFIED:20260325
PRIORITY:5
SEQUENCE:30
TRANSP:OPAQUE
SUMMARY:Baby Basics
DESCRIPTION:\nBaby Basics\nDrop in for social connection, support and baby fun. This is a dedicated time for babies to explore their world and work on their gross motor development using equipment designed just for them.\nFirst Time Participants:\nFor your first visit to our Thrive Family Centres you will need to fill out a registration form when you arrive. For your convenience you can download the form, fill it out and bring it with you. To download the form, click here.\nAll programs are first come-first served. Please see our capacity statement, participant rights and responsibilities, and our loving guidance guidelines. Programming is subject to change during this time, we suggest checking here on our website and looking at the Thrive Facebook page for the most up to date information.\n
URL:https://www.familyservices.bc.ca/events/babynastics/
ORGANIZER;CN=Family Services North Shore:MAILTO:
CATEGORIES:Community Hub,Thrive Family Programs
LOCATION:Capilano Mall 943 Marine Drive, North Vancouver
END:VEVENT
BEGIN:VEVENT
CLASS:PUBLIC
UID:MEC-3ba889650589407203d06949bdf6983d@familyservices.bc.ca
DTSTART;TZID=America/Vancouver:20260430T093000
DTEND;TZID=America/Vancouver:20260430T113000
DTSTAMP:20241029T123412Z
RRULE:FREQ=WEEKLY;UNTIL=20260831T183000Z;BYDAY=TH,FR
EXDATE:20260101T173000Z,20260102T173000Z,20260115T173000Z,20260213T173000Z,20260312T163000Z,20260325T163000Z,20260326T163000Z,20260327T163000Z,20260403T163000Z,20260521T163000Z
CREATED:20241029
LAST-MODIFIED:20260417
PRIORITY:5
SEQUENCE:67
TRANSP:OPAQUE
SUMMARY:Learning Together Through Play
DESCRIPTION:\nLearning Together Through Play\nOur Learning Together Through Play drop in program is for child-led play, crafts, songs, and stories while interacting with other parents and caregivers. Our Staff offer support, resources, and referrals in a welcoming space.\nFirst Time Participants:\nFor your first visit to our Thrive Family Centres you will need to fill out a registration form when you arrive. For your convenience you can download the form, fill it out and bring it with you.\nAll programs are first come-first served. Please see our capacity statement, participant rights and responsibilities, and our loving guidance policies. Programming is subject to change during this time, we suggest checking here on our website and looking at the Thrive Facebook page for the most up to date information.\n
URL:https://www.familyservices.bc.ca/events/learning-together-through-play/
ORGANIZER;CN=Family Services North Shore:MAILTO:
CATEGORIES:Community Hub,Thrive Family Programs
LOCATION:Capilano Mall 943 Marine Drive, North Vancouver
END:VEVENT
BEGIN:VEVENT
CLASS:PUBLIC
UID:MEC-54e0e46b6647aa736c13ef9d09eab432@familyservices.bc.ca
DTSTART;TZID=America/Vancouver:20260430T130000
DTEND;TZID=America/Vancouver:20260430T143000
DTSTAMP:20241025T125931Z
RRULE:FREQ=WEEKLY;UNTIL=20260831T213000Z
EXDATE:20241121T210000Z,20241226T210000Z,20250102T210000Z,20251225T210000Z,20260101T210000Z,20250515T200000Z,20250626T200000Z,20250827T200000Z,20250828T200000Z,20260122T210000Z,20260326T200000Z
CREATED:20241025
LAST-MODIFIED:20260325
PRIORITY:5
SEQUENCE:31
TRANSP:OPAQUE
SUMMARY:Baby Basics – Afternoon
DESCRIPTION:\nBaby Basics\nDrop in for social connection, support and baby fun. This is a dedicated time for babies to explore their world and work on their gross motor development using equipment designed just for them. A certified Birth Doula will be on site to provide support and answer questions.\nFirst Time Participants:\nFor your first visit to our Thrive Family Centres you will need to fill out a registration form when you arrive. For your convenience you can download the form, fill it out and bring it with you. To download the form, click here.\nAll programs are first come-first served. Please see our capacity statement, participant rights and responsibilities, and our loving guidance guidelines. Programming is subject to change during this time, we suggest checking here on our website and looking at the Thrive Facebook page for the most up to date information.\n
URL:https://www.familyservices.bc.ca/events/babynastics-afternoon/
ORGANIZER;CN=Family Services North Shore:MAILTO:
CATEGORIES:Maplewood,Thrive Family Programs
LOCATION:399 Seymour River Place North Vancouver, BC V7H 1S6
END:VEVENT
BEGIN:VEVENT
CLASS:PUBLIC
UID:MEC-f56de5ef149cf0aedcc8f4797031e229@familyservices.bc.ca
DTSTART;TZID=America/Vancouver:20260430T093000
DTEND;TZID=America/Vancouver:20260430T233000
DTSTAMP:20241021T235428Z
RRULE:FREQ=WEEKLY;UNTIL=20260901T063000Z
EXDATE:20241121T173000Z,20241226T173000Z,20250102T173000Z,20251225T173000Z,20260101T173000Z,20250515T163000Z,20250626T163000Z,20250827T163000Z,20250828T163000Z,20251120T173000Z,20260115T173000Z,20260312T163000Z,20260326T163000Z,20260521T163000Z
CREATED:20241021
LAST-MODIFIED:20260417
PRIORITY:5
SEQUENCE:30
TRANSP:OPAQUE
SUMMARY:Baby Basics – Morning
DESCRIPTION:\nBaby Basics\nDrop in for social connection, support and baby fun. This is a dedicated time for babies to explore their world and work on their gross motor development using equipment designed just for them.\nFirst Time Participants:\nFor your first visit to our Thrive Family Centres you will need to fill out a registration form when you arrive. For your convenience you can download the form, fill it out and bring it with you. To download the form, click here.\nAll programs are first come-first served. Please see our capacity statement, participant rights and responsibilities, and our loving guidance guidelines. Programming is subject to change during this time, we suggest checking here on our website and looking at the Thrive Facebook page for the most up to date information.\n
URL:https://www.familyservices.bc.ca/events/babynastics-morning/
ORGANIZER;CN=Family Services North Shore:MAILTO:
CATEGORIES:Maplewood,Thrive Family Programs
LOCATION:399 Seymour River Place North Vancouver, BC V7H 1S6
END:VEVENT
BEGIN:VEVENT
CLASS:PUBLIC
UID:MEC-422e42d058a41c75062760d7d640debf@familyservices.bc.ca
DTSTART;TZID=America/Vancouver:20260502T120000
DTEND;TZID=America/Vancouver:20260502T160000
DTSTAMP:20250410T154215Z
CREATED:20250410
LAST-MODIFIED:20260424
PRIORITY:5
SEQUENCE:9
TRANSP:OPAQUE
SUMMARY:Caregiver Expo
DESCRIPTION:Family Services of the North Shore will be at the Silver Harbour Seniors Centre for the 8th annual Caregiver Expo! This is your place to explore, learn, and celebrate healthy, engaged living and discover resources, programs, and connections that support seniors. The North Shore Seniors Expo brings together trusted providers, helpful organizations, and neighbours to explore everything from wellness and housing to volunteer opportunities and community networks. To learn more about the expo, please see the 8th Annual Caregiver Expo website. ( https://campaign.lodestardigital.ca/nsn-caregiver-and-senior-expo-spring-2026/?utm_source=qrcode&utm_medium=print&utm_campaign=nsn-caregiver-expo-spring2026 )\n
URL:https://www.familyservices.bc.ca/events/caregiver-expo/
ORGANIZER;CN=Family Services North Shore:MAILTO:
CATEGORIES:Seniors and Caregivers
LOCATION:144 22nd St E, North Vancouver, BC V7L 4L5
END:VEVENT
END:VCALENDAR
